BEGIN:VCALENDAR
VERSION:2.0
PRODID:DPCALENDAR
CALSCALE:GREGORIAN
BEGIN:VTIMEZONE
TZID:Europe/Zurich
BEGIN:STANDARD
DTSTART:20251026T010000
TZOFFSETFROM:+0200
TZOFFSETTO:+0100
TZNAME:CET
END:STANDARD
BEGIN:STANDARD
DTSTART:20261025T010000
TZOFFSETFROM:+0200
TZOFFSETTO:+0100
TZNAME:CET
END:STANDARD
BEGIN:DAYLIGHT
DTSTART:20260329T010000
TZOFFSETFROM:+0100
TZOFFSETTO:+0200
TZNAME:CEST
END:DAYLIGHT
END:VTIMEZONE
X-WR-TIMEZONE:Europe/Zurich
BEGIN:VEVENT
DTSTART;TZID=Europe/Zurich:20220824T140000
DTEND;TZID=Europe/Zurich:20220824T150000
UID:9C8A7098-3CD5-4546-86F6-AAB52CFD08D9
SUMMARY:Superbike - Ungarn
CREATED:20240308T071432Z
DTSTAMP:20240308T071432Z
URL:https://www.clone.gs-web.ch/index.php/rennenkalender/superbike-ungarn
X-ACCESS:1
X-HITS:10
X-COLOR:3366cc
X-SHOW-END-TIME:1
END:VEVENT
BEGIN:VEVENT
DTSTART;TZID=Europe/Zurich:20220910T140000
DTEND;TZID=Europe/Zurich:20220910T150000
UID:F752A39B-B07B-463C-885C-BB0102A401C6
SUMMARY:Superbike - Magny-Cours
CREATED:20220802T051825Z
DTSTAMP:20220802T051825Z
URL:https://www.clone.gs-web.ch/index.php/rennenkalender/superbike-magny-cours
X-ACCESS:1
X-HITS:301
X-COLOR:230cf2
X-SHOW-END-TIME:0
END:VEVENT
BEGIN:VEVENT
DTSTART;TZID=Europe/Zurich:20220911T110000
DTEND;TZID=Europe/Zurich:20220911T120000
UID:CF111550-06A2-426E-9F97-A891A0E2AB5F
SUMMARY:Superbike - Magny-Cours
CREATED:20220802T051825Z
DTSTAMP:20220802T051825Z
URL:https://www.clone.gs-web.ch/index.php/rennenkalender/superbike-magny-cours-2
X-ACCESS:1
X-HITS:218
X-COLOR:230cf2
X-SHOW-END-TIME:0
END:VEVENT
BEGIN:VEVENT
DTSTART;TZID=Europe/Zurich:20220911T140000
DTEND;TZID=Europe/Zurich:20220911T150000
UID:D8CCD508-FCBB-4CE8-AB44-2B46DDFB31C1
SUMMARY:Superbike - Magny-Cours
CREATED:20220802T051825Z
DTSTAMP:20220802T051825Z
URL:https://www.clone.gs-web.ch/index.php/rennenkalender/superbike-magny-cours-3
X-ACCESS:1
X-HITS:197
X-COLOR:230cf2
X-SHOW-END-TIME:0
END:VEVENT
BEGIN:VEVENT
DTSTART;TZID=Europe/Zurich:20220924T140000
DTEND;TZID=Europe/Zurich:20220924T150000
UID:FE89581E-01F7-4342-8CF3-D5AC3790A8E3
SUMMARY:Superbike - Barcelona
CREATED:20220802T051825Z
DTSTAMP:20220802T051825Z
URL:https://www.clone.gs-web.ch/index.php/rennenkalender/superbike-magny-cours-4
X-ACCESS:1
X-HITS:222
X-COLOR:230cf2
X-SHOW-END-TIME:0
END:VEVENT
BEGIN:VEVENT
DTSTART;TZID=Europe/Zurich:20220925T110000
DTEND;TZID=Europe/Zurich:20220925T120000
UID:B06E7814-9B8D-45E4-9AC8-60DAA1D686B4
SUMMARY:Superbike - Barcelona
CREATED:20220802T051825Z
DTSTAMP:20220802T051825Z
URL:https://www.clone.gs-web.ch/index.php/rennenkalender/superbike-magny-cours-6
X-ACCESS:1
X-HITS:194
X-COLOR:230cf2
X-SHOW-END-TIME:0
END:VEVENT
BEGIN:VEVENT
DTSTART;TZID=Europe/Zurich:20220925T140000
DTEND;TZID=Europe/Zurich:20220925T150000
UID:A76A1158-DAF9-41CD-B750-62EA557E283B
SUMMARY:Superbike - Barcelona
CREATED:20220802T051825Z
DTSTAMP:20220802T051825Z
URL:https://www.clone.gs-web.ch/index.php/rennenkalender/superbike-magny-cours-5
X-ACCESS:1
X-HITS:178
X-COLOR:230cf2
X-SHOW-END-TIME:0
END:VEVENT
BEGIN:VEVENT
DTSTART;TZID=Europe/Zurich:20221008T150000
DTEND;TZID=Europe/Zurich:20221008T160000
UID:5A11A2FD-B78E-4640-8B04-56A6AC7F3685
SUMMARY:Superbike - Portimao
CREATED:20220802T051825Z
DTSTAMP:20220802T051825Z
URL:https://www.clone.gs-web.ch/index.php/rennenkalender/superbike-magny-cours-7
X-ACCESS:1
X-HITS:195
X-COLOR:230cf2
X-SHOW-END-TIME:0
END:VEVENT
BEGIN:VEVENT
DTSTART;TZID=Europe/Zurich:20221009T120000
DTEND;TZID=Europe/Zurich:20221009T130000
UID:FE2B6832-5113-4118-ABC3-744BA5D72B1A
SUMMARY:Superbike - Portimao
CREATED:20220802T051825Z
DTSTAMP:20220802T051825Z
URL:https://www.clone.gs-web.ch/index.php/rennenkalender/superbike-magny-cours-9
X-ACCESS:1
X-HITS:219
X-COLOR:230cf2
X-SHOW-END-TIME:0
END:VEVENT
BEGIN:VEVENT
DTSTART;TZID=Europe/Zurich:20221009T150000
DTEND;TZID=Europe/Zurich:20221009T160000
UID:82CBAAC8-BC6D-4378-8FFD-F008576119AE
SUMMARY:Superbike - Portimao
CREATED:20220802T051825Z
DTSTAMP:20220802T051825Z
URL:https://www.clone.gs-web.ch/index.php/rennenkalender/superbike-magny-cours-8
X-ACCESS:1
X-HITS:132
X-COLOR:230cf2
X-SHOW-END-TIME:0
END:VEVENT
BEGIN:VEVENT
DTSTART;TZID=Europe/Zurich:20221022T200000
DTEND;TZID=Europe/Zurich:20221022T210000
UID:6BAACDF7-762C-4397-84AD-CF932C7F2CA2
SUMMARY:Superbike - San Juan
CREATED:20220802T051825Z
DTSTAMP:20220802T051825Z
URL:https://www.clone.gs-web.ch/index.php/rennenkalender/superbike-magny-cours-10
X-ACCESS:1
X-HITS:180
X-COLOR:230cf2
X-SHOW-END-TIME:0
END:VEVENT
BEGIN:VEVENT
DTSTART;TZID=Europe/Zurich:20221023T170000
DTEND;TZID=Europe/Zurich:20221023T180000
UID:030C55A8-18C5-44EC-B3C9-0FC7A921B3D1
SUMMARY:Superbike - San Juan
CREATED:20220802T051825Z
DTSTAMP:20220802T051825Z
URL:https://www.clone.gs-web.ch/index.php/rennenkalender/superbike-magny-cours-12
X-ACCESS:1
X-HITS:191
X-COLOR:230cf2
X-SHOW-END-TIME:0
END:VEVENT
BEGIN:VEVENT
DTSTART;TZID=Europe/Zurich:20221023T200000
DTEND;TZID=Europe/Zurich:20221023T210000
UID:23BC7B71-AABD-4D75-8DF2-5C5E10C4456E
SUMMARY:Superbike - San Juan
CREATED:20220802T051825Z
DTSTAMP:20220802T051825Z
URL:https://www.clone.gs-web.ch/index.php/rennenkalender/superbike-magny-cours-11
X-ACCESS:1
X-HITS:197
X-COLOR:230cf2
X-SHOW-END-TIME:0
END:VEVENT
BEGIN:VEVENT
DTSTART;TZID=Europe/Zurich:20221112T070000
DTEND;TZID=Europe/Zurich:20221112T080000
UID:97B0AF73-642E-48B8-8FE3-53FA9EC80A2F
SUMMARY:Superbike - Mandalika
CREATED:20220802T051825Z
DTSTAMP:20220802T051825Z
URL:https://www.clone.gs-web.ch/index.php/rennenkalender/superbike-magny-cours-13
X-ACCESS:1
X-HITS:268
X-COLOR:230cf2
X-SHOW-END-TIME:0
END:VEVENT
BEGIN:VEVENT
DTSTART;TZID=Europe/Zurich:20221113T040000
DTEND;TZID=Europe/Zurich:20221113T050000
UID:0FB9E3CB-2297-49A5-AA04-4AC35F5D511F
SUMMARY:Superbike - Mandalika
CREATED:20220802T051825Z
DTSTAMP:20220802T051825Z
URL:https://www.clone.gs-web.ch/index.php/rennenkalender/superbike-magny-cours-15
X-ACCESS:1
X-HITS:267
X-COLOR:230cf2
X-SHOW-END-TIME:0
END:VEVENT
BEGIN:VEVENT
DTSTART;TZID=Europe/Zurich:20221113T070000
DTEND;TZID=Europe/Zurich:20221113T080000
UID:C701F192-CC44-4F82-B35B-5616C2A361B1
SUMMARY:Superbike - Mandalika
CREATED:20220802T051825Z
DTSTAMP:20220802T051825Z
URL:https://www.clone.gs-web.ch/index.php/rennenkalender/superbike-magny-cours-14
X-ACCESS:1
X-HITS:219
X-COLOR:230cf2
X-SHOW-END-TIME:0
END:VEVENT
BEGIN:VEVENT
DTSTART;TZID=Europe/Zurich:20221119T040000
DTEND;TZID=Europe/Zurich:20221119T050000
UID:1B13D1AC-20B3-460F-BB55-B2F590D82611
SUMMARY:Superbike - Philip Island
CREATED:20220802T051825Z
DTSTAMP:20220802T051825Z
URL:https://www.clone.gs-web.ch/index.php/rennenkalender/superbike-magny-cours-16
X-ACCESS:1
X-HITS:194
X-COLOR:230cf2
X-SHOW-END-TIME:0
END:VEVENT
BEGIN:VEVENT
DTSTART;TZID=Europe/Zurich:20221120T010000
DTEND;TZID=Europe/Zurich:20221120T020000
UID:D2100DEF-94DA-4E80-9E12-80872C2C5F6E
SUMMARY:Superbike - Philip Island
CREATED:20220802T051825Z
DTSTAMP:20220802T051825Z
URL:https://www.clone.gs-web.ch/index.php/rennenkalender/superbike-magny-cours-18
X-ACCESS:1
X-HITS:161
X-COLOR:230cf2
X-SHOW-END-TIME:0
END:VEVENT
BEGIN:VEVENT
DTSTART;TZID=Europe/Zurich:20221120T040000
DTEND;TZID=Europe/Zurich:20221120T050000
UID:ADE69C4A-979D-4B39-BCB7-C6F84977C5BA
SUMMARY:Superbike - Philip Island
CREATED:20220802T051825Z
DTSTAMP:20220802T051825Z
URL:https://www.clone.gs-web.ch/index.php/rennenkalender/superbike-magny-cours-17
LAST-MODIFIED:20221114T095329Z
SEQUENCE:9002104
X-ACCESS:1
X-HITS:143
X-COLOR:230cf2
X-IMAGE-FULL:https://www.clone.gs-web.ch/images/phillipisland_gr.png
X-SHOW-END-TIME:0
END:VEVENT
BEGIN:VEVENT
DTSTART;TZID=Europe/Zurich:20230226T020000
DTEND;TZID=Europe/Zurich:20230226T030000
UID:77FAABAB-0968-4856-81A7-1C28EA62BF7F
SUMMARY:Superbike - Philip Island
CREATED:20220802T051825Z
DTSTAMP:20220802T051825Z
URL:https://www.clone.gs-web.ch/index.php/rennenkalender/superbike-philip-island-2
DESCRIPTION:Sprintrennen
X-ALT-DESC;FMTTYPE=text/html:<p>Sprintrennen</p>
X-ACCESS:1
X-HITS:514
X-COLOR:230cf2
X-SHOW-END-TIME:0
END:VEVENT
BEGIN:VEVENT
DTSTART;TZID=Europe/Zurich:20230304T073000
DTEND;TZID=Europe/Zurich:20230304T083000
UID:D3BB3689-60A9-4F57-AC41-28DD827124F9
SUMMARY:Superbike - Mandalika
CREATED:20220802T051825Z
DTSTAMP:20220802T051825Z
URL:https://www.clone.gs-web.ch/index.php/rennenkalender/superbike-mandalika
X-ACCESS:1
X-HITS:473
X-COLOR:230cf2
X-SHOW-END-TIME:0
END:VEVENT
BEGIN:VEVENT
DTSTART;TZID=Europe/Zurich:20230305T043000
DTEND;TZID=Europe/Zurich:20230305T053000
UID:CD6EFCE2-92EF-4230-BB60-FCEDC410FEE6
SUMMARY:Superbike - Mandalika
CREATED:20220802T051825Z
DTSTAMP:20220802T051825Z
URL:https://www.clone.gs-web.ch/index.php/rennenkalender/superbike-mandalika-2
DESCRIPTION:Sprintrennen
X-ALT-DESC;FMTTYPE=text/html:<p>Sprintrennen</p>
X-ACCESS:1
X-HITS:520
X-COLOR:230cf2
X-SHOW-END-TIME:0
END:VEVENT
BEGIN:VEVENT
DTSTART;TZID=Europe/Zurich:20230305T073000
DTEND;TZID=Europe/Zurich:20230305T083000
UID:C4DC3540-56A3-4E9C-8137-99E60E7010F9
SUMMARY:Superbike - Mandalika
CREATED:20220802T051825Z
DTSTAMP:20220802T051825Z
URL:https://www.clone.gs-web.ch/index.php/rennenkalender/superbike-mandalika-3
X-ACCESS:1
X-HITS:115
X-COLOR:230cf2
X-SHOW-END-TIME:0
END:VEVENT
BEGIN:VEVENT
DTSTART;TZID=Europe/Zurich:20230423T110000
DTEND;TZID=Europe/Zurich:20230423T120000
UID:0B51305D-7D4B-427D-ABE1-C6ED561BC050
SUMMARY:Superbike - Assen
CREATED:20220802T051825Z
DTSTAMP:20220802T051825Z
URL:https://www.clone.gs-web.ch/index.php/rennenkalender/superbike-assen-2
DESCRIPTION:Sprintrennen
X-ALT-DESC;FMTTYPE=text/html:<p>Sprintrennen</p>
X-ACCESS:1
X-HITS:162
X-COLOR:230cf2
X-SHOW-END-TIME:0
END:VEVENT
BEGIN:VEVENT
DTSTART;TZID=Europe/Zurich:20230423T151500
DTEND;TZID=Europe/Zurich:20230423T161500
UID:366F4AA2-48BB-4954-924C-C108E605EECA
SUMMARY:Superbike - Assen
CREATED:20220802T051825Z
DTSTAMP:20220802T051825Z
URL:https://www.clone.gs-web.ch/index.php/rennenkalender/superbike-assen-3
X-ACCESS:1
X-HITS:98
X-COLOR:230cf2
X-SHOW-END-TIME:0
END:VEVENT
BEGIN:VEVENT
DTSTART;TZID=Europe/Zurich:20230506T140000
DTEND;TZID=Europe/Zurich:20230506T150000
UID:FB8DA17E-DA07-4A1B-A538-AE45E5194BD2
SUMMARY:Superbike - Barcelona
CREATED:20220802T051825Z
DTSTAMP:20220802T051825Z
URL:https://www.clone.gs-web.ch/index.php/rennenkalender/superbike-barcelona
X-ACCESS:1
X-HITS:153
X-COLOR:230cf2
X-SHOW-END-TIME:0
END:VEVENT
BEGIN:VEVENT
DTSTART;TZID=Europe/Zurich:20230507T110000
DTEND;TZID=Europe/Zurich:20230507T120000
UID:DD821AFA-CB34-434A-B792-996F0CAF73BF
SUMMARY:Superbike - Barcelona
CREATED:20220802T051825Z
DTSTAMP:20220802T051825Z
URL:https://www.clone.gs-web.ch/index.php/rennenkalender/superbike-barcelona-2
DESCRIPTION:Sprintrennen
X-ALT-DESC;FMTTYPE=text/html:<p>Sprintrennen</p>
X-ACCESS:1
X-HITS:150
X-COLOR:230cf2
X-SHOW-END-TIME:0
END:VEVENT
BEGIN:VEVENT
DTSTART;TZID=Europe/Zurich:20230507T140000
DTEND;TZID=Europe/Zurich:20230507T150000
UID:7121DB13-CDF6-410D-A878-7E911CB4E236
SUMMARY:Superbike - Barcelona
CREATED:20220802T051825Z
DTSTAMP:20220802T051825Z
URL:https://www.clone.gs-web.ch/index.php/rennenkalender/superbike-barcelona-3
X-ACCESS:1
X-HITS:127
X-COLOR:230cf2
X-SHOW-END-TIME:0
END:VEVENT
BEGIN:VEVENT
DTSTART;TZID=Europe/Zurich:20230603T140000
DTEND;TZID=Europe/Zurich:20230603T150000
UID:48F4F4DC-88E4-4B74-87E0-A05C2C1D7090
SUMMARY:Superbike - Misano
CREATED:20220802T051825Z
DTSTAMP:20220802T051825Z
URL:https://www.clone.gs-web.ch/index.php/rennenkalender/superbike-misano
X-ACCESS:1
X-HITS:218
X-COLOR:230cf2
X-SHOW-END-TIME:0
END:VEVENT
BEGIN:VEVENT
DTSTART;TZID=Europe/Zurich:20230604T110000
DTEND;TZID=Europe/Zurich:20230604T120000
UID:388230BC-D785-4C4D-AB0B-DEA6008CEFBC
SUMMARY:Superbike - Misano
CREATED:20220802T051825Z
DTSTAMP:20220802T051825Z
URL:https://www.clone.gs-web.ch/index.php/rennenkalender/superbike-misano-2
DESCRIPTION:Sprintrennen
X-ALT-DESC;FMTTYPE=text/html:<p>Sprintrennen</p>
X-ACCESS:1
X-HITS:199
X-COLOR:230cf2
X-SHOW-END-TIME:0
END:VEVENT
BEGIN:VEVENT
DTSTART;TZID=Europe/Zurich:20230604T151500
DTEND;TZID=Europe/Zurich:20230604T161500
UID:E5027685-73C1-4F2E-823E-7AD54C32B484
SUMMARY:Superbike - Misano
CREATED:20220802T051825Z
DTSTAMP:20220802T051825Z
URL:https://www.clone.gs-web.ch/index.php/rennenkalender/superbike-misano-3
X-ACCESS:1
X-HITS:175
X-COLOR:230cf2
X-SHOW-END-TIME:0
END:VEVENT
BEGIN:VEVENT
DTSTART;TZID=Europe/Zurich:20231014T200000
DTEND;TZID=Europe/Zurich:20231014T210000
UID:273E0168-968B-4307-8E10-CEBCD4D32056
SUMMARY:Superbike - San Juan
CREATED:20220802T051825Z
DTSTAMP:20220802T051825Z
URL:https://www.clone.gs-web.ch/index.php/rennenkalender/superbike-san-juan
X-ACCESS:1
X-HITS:167
X-COLOR:230cf2
X-SHOW-END-TIME:0
END:VEVENT
BEGIN:VEVENT
DTSTART;TZID=Europe/Zurich:20231015T170000
DTEND;TZID=Europe/Zurich:20231015T180000
UID:C550027C-491A-48AC-8B37-62C671F364C7
SUMMARY:Superbike - San Juan
CREATED:20220802T051825Z
DTSTAMP:20220802T051825Z
URL:https://www.clone.gs-web.ch/index.php/rennenkalender/superbike-san-juan-2
DESCRIPTION:Sprintrennen
X-ALT-DESC;FMTTYPE=text/html:<p>Sprintrennen</p>
X-ACCESS:1
X-HITS:100
X-COLOR:230cf2
X-SHOW-END-TIME:0
END:VEVENT
BEGIN:VEVENT
DTSTART;TZID=Europe/Zurich:20231015T200000
DTEND;TZID=Europe/Zurich:20231015T210000
UID:0A1A3EDE-0461-441D-B975-CDCE2106B256
SUMMARY:Superbike - San Juan
CREATED:20220802T051825Z
DTSTAMP:20220802T051825Z
URL:https://www.clone.gs-web.ch/index.php/rennenkalender/superbike-san-juan-3
X-ACCESS:1
X-HITS:74
X-COLOR:230cf2
X-SHOW-END-TIME:0
END:VEVENT
BEGIN:VEVENT
DTSTART;TZID=Europe/Zurich:20250329T150000
DTEND;TZID=Europe/Zurich:20250329T160000
UID:9A302299-A74C-42CC-9634-974A934365AA
SUMMARY:Superbike - Portimao
CREATED:20220802T051825Z
DTSTAMP:20220802T051825Z
URL:https://www.clone.gs-web.ch/index.php/rennenkalender/superbike-portimao
LAST-MODIFIED:20250224T133810Z
SEQUENCE:80986785
X-ACCESS:1
X-HITS:300
X-COLOR:230cf2
X-SHOW-END-TIME:0
END:VEVENT
BEGIN:VEVENT
DTSTART;TZID=Europe/Zurich:20250330T130000
DTEND;TZID=Europe/Zurich:20250330T140000
UID:F05B87E9-C3A3-4B26-8ACC-21DB1AE95517
SUMMARY:Superbike - Portimao
CREATED:20220802T051825Z
DTSTAMP:20220802T051825Z
URL:https://www.clone.gs-web.ch/index.php/rennenkalender/superbike-portimao-2
DESCRIPTION:Sprintrennen
X-ALT-DESC;FMTTYPE=text/html:<p>Sprintrennen</p>
LAST-MODIFIED:20250224T133856Z
SEQUENCE:80986831
X-ACCESS:1
X-HITS:284
X-COLOR:230cf2
X-SHOW-END-TIME:0
END:VEVENT
BEGIN:VEVENT
DTSTART;TZID=Europe/Zurich:20250330T150000
DTEND;TZID=Europe/Zurich:20250330T160000
UID:1F1AA15C-F7EC-4A44-BD80-3A5AB985093B
SUMMARY:Superbike - Portimao
CREATED:20220802T051825Z
DTSTAMP:20220802T051825Z
URL:https://www.clone.gs-web.ch/index.php/rennenkalender/superbike-portimao-3
LAST-MODIFIED:20250224T133928Z
SEQUENCE:80986863
X-ACCESS:1
X-HITS:450
X-COLOR:230cf2
X-SHOW-END-TIME:0
END:VEVENT
BEGIN:VEVENT
DTSTART;TZID=Europe/Zurich:20250412T140000
DTEND;TZID=Europe/Zurich:20250412T140000
UID:418E02A2-6954-4837-BAD5-D60D5FDCB378
SUMMARY:Superbike - Assen
CREATED:20240308T070421Z
DTSTAMP:20240308T070421Z
URL:https://www.clone.gs-web.ch/index.php/rennenkalender/superbike-assen-4
LAST-MODIFIED:20250224T134207Z
SEQUENCE:30523066
X-ACCESS:1
X-HITS:271
X-COLOR:3366cc
X-SHOW-END-TIME:0
END:VEVENT
BEGIN:VEVENT
DTSTART;TZID=Europe/Zurich:20250413T110000
DTEND;TZID=Europe/Zurich:20250413T110000
UID:A73E68FF-5C2B-4905-8CD8-1FAEF853407A
SUMMARY:Superbike - Assen
CREATED:20240308T070512Z
DTSTAMP:20240308T070512Z
URL:https://www.clone.gs-web.ch/index.php/rennenkalender/superbike-assen-5
LAST-MODIFIED:20250224T134225Z
SEQUENCE:30523033
X-ACCESS:1
X-HITS:759
X-COLOR:3366cc
X-SHOW-END-TIME:0
END:VEVENT
BEGIN:VEVENT
DTSTART;TZID=Europe/Zurich:20250413T140000
DTEND;TZID=Europe/Zurich:20250413T150000
UID:1F009538-BDAC-4489-9096-A242CDB0913E
SUMMARY:Superbike - Assen
CREATED:20220802T051825Z
DTSTAMP:20220802T051825Z
URL:https://www.clone.gs-web.ch/index.php/rennenkalender/superbike-assen
LAST-MODIFIED:20250224T134253Z
SEQUENCE:80987068
X-ACCESS:1
X-HITS:670
X-COLOR:230cf2
X-SHOW-END-TIME:0
END:VEVENT
BEGIN:VEVENT
DTSTART;TZID=Europe/Zurich:20250503T140000
DTEND;TZID=Europe/Zurich:20250503T150000
UID:E1C3BEEC-1D1F-4B78-A4BE-49B2A5DB7233
SUMMARY:Superbike - Cremona
CREATED:20240308T071716Z
DTSTAMP:20240308T071716Z
URL:https://www.clone.gs-web.ch/index.php/rennenkalender/superbike-cremona
LAST-MODIFIED:20250224T134410Z
SEQUENCE:30522414
X-ACCESS:1
X-HITS:227
X-COLOR:3366cc
X-SHOW-END-TIME:0
END:VEVENT
BEGIN:VEVENT
DTSTART;TZID=Europe/Zurich:20250504T110000
DTEND;TZID=Europe/Zurich:20250504T120000
UID:B2A63540-EC94-4979-8679-8AE48FE17280
SUMMARY:Superbike - Cremona
CREATED:20240308T071733Z
DTSTAMP:20240308T071733Z
URL:https://www.clone.gs-web.ch/index.php/rennenkalender/superbike-cremona-2
LAST-MODIFIED:20250224T134427Z
SEQUENCE:30522414
X-ACCESS:1
X-HITS:124
X-COLOR:3366cc
X-SHOW-END-TIME:0
END:VEVENT
BEGIN:VEVENT
DTSTART;TZID=Europe/Zurich:20250504T140000
DTEND;TZID=Europe/Zurich:20250504T150000
UID:6CAFB40B-D0EA-46F5-BC91-244D4E74BEC3
SUMMARY:Superbike - Cremona
CREATED:20240308T071750Z
DTSTAMP:20240308T071750Z
URL:https://www.clone.gs-web.ch/index.php/rennenkalender/superbike-cremona-3
LAST-MODIFIED:20250224T134440Z
SEQUENCE:30522410
X-ACCESS:1
X-HITS:315
X-COLOR:3366cc
X-SHOW-END-TIME:0
END:VEVENT
BEGIN:VEVENT
DTSTART;TZID=Europe/Zurich:20250517T140000
DTEND;TZID=Europe/Zurich:20250517T150000
UID:C0B3C418-9C4F-46FC-B0C4-FA15B099DB76
SUMMARY:Superbike - Most
CREATED:20220802T051825Z
DTSTAMP:20220802T051825Z
URL:https://www.clone.gs-web.ch/index.php/rennenkalender/superbike-most
LAST-MODIFIED:20250224T134511Z
SEQUENCE:80987206
X-ACCESS:1
X-HITS:281
X-COLOR:230cf2
X-SHOW-END-TIME:0
END:VEVENT
BEGIN:VEVENT
DTSTART;TZID=Europe/Zurich:20250518T110000
DTEND;TZID=Europe/Zurich:20250518T120000
UID:444035ED-42DB-4B96-BC8C-6016C7D399EF
SUMMARY:Superbike - Most
CREATED:20220802T051825Z
DTSTAMP:20220802T051825Z
URL:https://www.clone.gs-web.ch/index.php/rennenkalender/superbike-most-2
DESCRIPTION:Sprintrennen
X-ALT-DESC;FMTTYPE=text/html:<p>Sprintrennen</p>
LAST-MODIFIED:20250224T134524Z
SEQUENCE:80987219
X-ACCESS:1
X-HITS:279
X-COLOR:230cf2
X-SHOW-END-TIME:0
END:VEVENT
BEGIN:VEVENT
DTSTART;TZID=Europe/Zurich:20250518T140000
DTEND;TZID=Europe/Zurich:20250518T150000
UID:357CEB32-D5A2-4AD2-AF77-6877C5D83A90
SUMMARY:Superbike - Most
CREATED:20220802T051825Z
DTSTAMP:20220802T051825Z
URL:https://www.clone.gs-web.ch/index.php/rennenkalender/superbike-most-3
LAST-MODIFIED:20250224T134536Z
SEQUENCE:80987231
X-ACCESS:1
X-HITS:340
X-COLOR:230cf2
X-SHOW-END-TIME:0
END:VEVENT
BEGIN:VEVENT
DTSTART;TZID=Europe/Zurich:20250614T140000
DTEND;TZID=Europe/Zurich:20250614T150000
UID:C3FAE6F5-1B39-444E-A37D-E5170F219434
SUMMARY:Superbike - Misano
CREATED:20250224T135018Z
DTSTAMP:20250224T135018Z
URL:https://www.clone.gs-web.ch/index.php/rennenkalender/superbike-misano-6
X-ACCESS:1
X-HITS:32
X-COLOR:0f4afc
X-SHOW-END-TIME:0
END:VEVENT
BEGIN:VEVENT
DTSTART;TZID=Europe/Zurich:20250615T110000
DTEND;TZID=Europe/Zurich:20250615T110000
UID:053DBA00-8230-4B30-8FC0-CFD0201CBC64
SUMMARY:Superbike - Misano
CREATED:20240308T070717Z
DTSTAMP:20240308T070717Z
URL:https://www.clone.gs-web.ch/index.php/rennenkalender/superbike-misano-4
LAST-MODIFIED:20250224T135037Z
SEQUENCE:30523400
X-ACCESS:1
X-HITS:375
X-COLOR:3366cc
X-SHOW-END-TIME:0
END:VEVENT
BEGIN:VEVENT
DTSTART;TZID=Europe/Zurich:20250615T140000
DTEND;TZID=Europe/Zurich:20250615T150000
UID:330A6616-C694-4106-AB75-2E0BA248B039
SUMMARY:Superbike - Misano
CREATED:20220802T051825Z
DTSTAMP:20220802T051825Z
URL:https://www.clone.gs-web.ch/index.php/rennenkalender/superbike-philip-island
LAST-MODIFIED:20250224T135049Z
SEQUENCE:80987544
X-ACCESS:1
X-HITS:865
X-COLOR:230cf2
X-SHOW-END-TIME:0
END:VEVENT
BEGIN:VEVENT
DTSTART;TZID=Europe/Zurich:20250712T150000
DTEND;TZID=Europe/Zurich:20250712T160000
UID:70CF027A-52BE-4194-AE02-94EE195682E7
SUMMARY:Superbike - Donington
CREATED:20220802T051825Z
DTSTAMP:20220802T051825Z
URL:https://www.clone.gs-web.ch/index.php/rennenkalender/superbike-donington
LAST-MODIFIED:20250224T135121Z
SEQUENCE:80987576
X-ACCESS:1
X-HITS:590
X-COLOR:230cf2
X-SHOW-END-TIME:0
END:VEVENT
BEGIN:VEVENT
DTSTART;TZID=Europe/Zurich:20250713T120000
DTEND;TZID=Europe/Zurich:20250713T130000
UID:C2618FC5-2A17-4F46-8E30-10F45EA3C1F6
SUMMARY:Superbike - Donington
CREATED:20220802T051825Z
DTSTAMP:20220802T051825Z
URL:https://www.clone.gs-web.ch/index.php/rennenkalender/superbike-donington-2
DESCRIPTION:Sprintrennen
X-ALT-DESC;FMTTYPE=text/html:<p>Sprintrennen</p>
LAST-MODIFIED:20250224T135147Z
SEQUENCE:80987602
X-ACCESS:1
X-HITS:273
X-COLOR:230cf2
X-SHOW-END-TIME:0
END:VEVENT
BEGIN:VEVENT
DTSTART;TZID=Europe/Zurich:20250713T150000
DTEND;TZID=Europe/Zurich:20250713T160000
UID:9217F309-6E90-4219-A202-CDBCFC98F2B8
SUMMARY:Superbike - Donington
CREATED:20220802T051825Z
DTSTAMP:20220802T051825Z
URL:https://www.clone.gs-web.ch/index.php/rennenkalender/superbike-donington-3
LAST-MODIFIED:20250224T135206Z
SEQUENCE:80987621
X-ACCESS:1
X-HITS:356
X-COLOR:230cf2
X-SHOW-END-TIME:0
END:VEVENT
BEGIN:VEVENT
DTSTART;TZID=Europe/Zurich:20250726T140000
DTEND;TZID=Europe/Zurich:20250726T150000
UID:297BF382-22EC-44A1-A026-12F1CE605A04
SUMMARY:Superbike - Ungarn
CREATED:20240308T072306Z
DTSTAMP:20240308T072306Z
URL:https://www.clone.gs-web.ch/index.php/rennenkalender/superbike-ungarn-4
LAST-MODIFIED:20250224T135241Z
SEQUENCE:30522575
X-ACCESS:1
X-HITS:175
X-COLOR:3366cc
X-SHOW-END-TIME:0
END:VEVENT
BEGIN:VEVENT
DTSTART;TZID=Europe/Zurich:20250727T110000
DTEND;TZID=Europe/Zurich:20250727T120000
UID:963FCC5F-BD98-4632-ADA7-AD763CE89F4F
SUMMARY:Superbike - Ungarn
CREATED:20240308T071451Z
DTSTAMP:20240308T071451Z
URL:https://www.clone.gs-web.ch/index.php/rennenkalender/superbike-ungarn-2
LAST-MODIFIED:20250224T135318Z
SEQUENCE:30523107
X-ACCESS:1
X-HITS:105
X-COLOR:3366cc
X-SHOW-END-TIME:0
END:VEVENT
BEGIN:VEVENT
DTSTART;TZID=Europe/Zurich:20250727T140000
DTEND;TZID=Europe/Zurich:20250727T150000
UID:CB978224-DA7D-406C-A86A-07EB5ADEE953
SUMMARY:Superbike - Ungarn
CREATED:20240308T071507Z
DTSTAMP:20240308T071507Z
URL:https://www.clone.gs-web.ch/index.php/rennenkalender/superbike-ungarn-3
LAST-MODIFIED:20250224T135334Z
SEQUENCE:30523107
X-ACCESS:1
X-HITS:205
X-COLOR:3366cc
X-SHOW-END-TIME:0
END:VEVENT
BEGIN:VEVENT
DTSTART;TZID=Europe/Zurich:20250906T140000
DTEND;TZID=Europe/Zurich:20250906T150000
UID:B48A6435-E951-4152-8D2E-A1E66D54A230
SUMMARY:Superbike - Magny-Cours
CREATED:20220802T051825Z
DTSTAMP:20220802T051825Z
URL:https://www.clone.gs-web.ch/index.php/rennenkalender/superbike-magny-cours-19
LAST-MODIFIED:20250224T135358Z
SEQUENCE:80987733
X-ACCESS:1
X-HITS:307
X-COLOR:230cf2
X-SHOW-END-TIME:0
END:VEVENT
BEGIN:VEVENT
DTSTART;TZID=Europe/Zurich:20250907T110000
DTEND;TZID=Europe/Zurich:20250907T120000
UID:18EC6FF9-9990-4BD3-A146-6C34AB6DE4AA
SUMMARY:Superbike - Magny-Cours
CREATED:20220802T051825Z
DTSTAMP:20220802T051825Z
URL:https://www.clone.gs-web.ch/index.php/rennenkalender/superbike-magny-cours-20
DESCRIPTION:Sprintrennen
X-ALT-DESC;FMTTYPE=text/html:<p>Sprintrennen</p>
LAST-MODIFIED:20250224T135415Z
SEQUENCE:80987750
X-ACCESS:1
X-HITS:186
X-COLOR:230cf2
X-SHOW-END-TIME:0
END:VEVENT
BEGIN:VEVENT
DTSTART;TZID=Europe/Zurich:20250907T151500
DTEND;TZID=Europe/Zurich:20250907T161500
UID:8065F1A2-3E94-494A-8C73-CE8461EE67FF
SUMMARY:Superbike - Magny-Cours
CREATED:20220802T051825Z
DTSTAMP:20220802T051825Z
URL:https://www.clone.gs-web.ch/index.php/rennenkalender/superbike-magny-cours-21
LAST-MODIFIED:20250224T135438Z
SEQUENCE:80987773
X-ACCESS:1
X-HITS:157
X-COLOR:230cf2
X-SHOW-END-TIME:0
END:VEVENT
BEGIN:VEVENT
DTSTART;TZID=Europe/Zurich:20250927T140000
DTEND;TZID=Europe/Zurich:20250927T150000
UID:5CD0F192-B3EC-4C86-B747-F69BB6CB1073
SUMMARY:Superbike - Aragon
CREATED:20220802T051825Z
DTSTAMP:20220802T051825Z
URL:https://www.clone.gs-web.ch/index.php/rennenkalender/superbike-aragon
LAST-MODIFIED:20250224T135511Z
SEQUENCE:80987806
X-ACCESS:1
X-HITS:175
X-COLOR:230cf2
X-SHOW-END-TIME:0
END:VEVENT
BEGIN:VEVENT
DTSTART;TZID=Europe/Zurich:20250928T110000
DTEND;TZID=Europe/Zurich:20250928T120000
UID:20518600-DFBD-43AB-B247-A74685CBDF88
SUMMARY:Superbike - Aragon
CREATED:20220802T051825Z
DTSTAMP:20220802T051825Z
URL:https://www.clone.gs-web.ch/index.php/rennenkalender/superbike-aragon-2
DESCRIPTION:Sprintrennen
X-ALT-DESC;FMTTYPE=text/html:<p>Sprintrennen</p>
LAST-MODIFIED:20250224T135527Z
SEQUENCE:80987822
X-ACCESS:1
X-HITS:134
X-COLOR:230cf2
X-SHOW-END-TIME:0
END:VEVENT
BEGIN:VEVENT
DTSTART;TZID=Europe/Zurich:20250928T140000
DTEND;TZID=Europe/Zurich:20250928T150000
UID:CFFB8923-FC62-4EA2-8CD2-5C325E6C7FC1
SUMMARY:Superbike - Aragon
CREATED:20220802T051825Z
DTSTAMP:20220802T051825Z
URL:https://www.clone.gs-web.ch/index.php/rennenkalender/superbike-aragon-3
LAST-MODIFIED:20250224T135540Z
SEQUENCE:80987835
X-ACCESS:1
X-HITS:97
X-COLOR:230cf2
X-SHOW-END-TIME:0
END:VEVENT
BEGIN:VEVENT
DTSTART;TZID=Europe/Zurich:20251011T150000
DTEND;TZID=Europe/Zurich:20251011T150000
UID:0837B499-23A3-4BB9-B762-F9BAD99945AB
SUMMARY:Superbike - Estroil
CREATED:20240308T065426Z
DTSTAMP:20240308T065426Z
URL:https://www.clone.gs-web.ch/index.php/rennenkalender/superbike-barcelona-4
LAST-MODIFIED:20250224T135719Z
SEQUENCE:30524573
X-ACCESS:1
X-HITS:115
X-COLOR:3366cc
X-SHOW-END-TIME:0
END:VEVENT
BEGIN:VEVENT
DTSTART;TZID=Europe/Zurich:20251012T120000
DTEND;TZID=Europe/Zurich:20251012T130000
UID:D2A05DA1-6743-4B17-B30A-2B8CBF8FEB0E
SUMMARY:Superbike - Estroil
CREATED:20220802T051825Z
DTSTAMP:20220802T051825Z
URL:https://www.clone.gs-web.ch/index.php/rennenkalender/superbike-philip-island-3
LAST-MODIFIED:20250224T135745Z
SEQUENCE:80987960
X-ACCESS:1
X-HITS:584
X-COLOR:230cf2
X-SHOW-END-TIME:0
END:VEVENT
BEGIN:VEVENT
DTSTART;TZID=Europe/Zurich:20251012T150000
DTEND;TZID=Europe/Zurich:20251012T150000
UID:F48E8064-366D-4851-9D79-73ABA80C65D8
SUMMARY:Superbike - Estroil
CREATED:20240308T065447Z
DTSTAMP:20240308T065447Z
URL:https://www.clone.gs-web.ch/index.php/rennenkalender/superbike-barcelona-5
LAST-MODIFIED:20250224T135812Z
SEQUENCE:30524605
X-ACCESS:1
X-HITS:140
X-COLOR:3366cc
X-SHOW-END-TIME:0
END:VEVENT
BEGIN:VEVENT
DTSTART;TZID=Europe/Zurich:20251018T140000
DTEND;TZID=Europe/Zurich:20251018T150000
UID:68D9CC7B-FDE8-460E-BF94-EB510370F247
SUMMARY:Superbike - Jerez
CREATED:20240308T072012Z
DTSTAMP:20240308T072012Z
URL:https://www.clone.gs-web.ch/index.php/rennenkalender/superbike-jerez
LAST-MODIFIED:20250224T135616Z
SEQUENCE:30522964
X-ACCESS:1
X-HITS:115
X-COLOR:3366cc
X-SHOW-END-TIME:0
END:VEVENT
BEGIN:VEVENT
DTSTART;TZID=Europe/Zurich:20251019T110000
DTEND;TZID=Europe/Zurich:20251019T120000
UID:C448AA0D-CF1B-461A-A8A9-049E1E66B20F
SUMMARY:Superbike - Jerez
CREATED:20240308T072028Z
DTSTAMP:20240308T072028Z
URL:https://www.clone.gs-web.ch/index.php/rennenkalender/superbike-jerez-2
LAST-MODIFIED:20250224T135628Z
SEQUENCE:30522960
X-ACCESS:1
X-HITS:122
X-COLOR:3366cc
X-SHOW-END-TIME:0
END:VEVENT
BEGIN:VEVENT
DTSTART;TZID=Europe/Zurich:20251019T140000
DTEND;TZID=Europe/Zurich:20251019T150000
UID:C4630FFB-6B3B-4ACD-B6A7-87F301BF8F00
SUMMARY:Superbike - Jerez
CREATED:20240308T072043Z
DTSTAMP:20240308T072043Z
URL:https://www.clone.gs-web.ch/index.php/rennenkalender/superbike-jerez-3
LAST-MODIFIED:20250224T135640Z
SEQUENCE:30522957
X-ACCESS:1
X-HITS:118
X-COLOR:3366cc
X-SHOW-END-TIME:0
END:VEVENT
END:VCALENDAR