BEGIN:VCALENDAR
VERSION:2.0
PRODID:DPCALENDAR
CALSCALE:GREGORIAN
BEGIN:VTIMEZONE
TZID:Europe/Zurich
BEGIN:STANDARD
DTSTART:20251026T010000
TZOFFSETFROM:+0200
TZOFFSETTO:+0100
TZNAME:CET
END:STANDARD
BEGIN:STANDARD
DTSTART:20261025T010000
TZOFFSETFROM:+0200
TZOFFSETTO:+0100
TZNAME:CET
END:STANDARD
BEGIN:DAYLIGHT
DTSTART:20260329T010000
TZOFFSETFROM:+0100
TZOFFSETTO:+0200
TZNAME:CEST
END:DAYLIGHT
END:VTIMEZONE
X-WR-TIMEZONE:Europe/Zurich
BEGIN:VEVENT
DTSTART;TZID=Europe/Zurich:20220807T150000
DTEND;TZID=Europe/Zurich:20220807T160000
UID:38D532FB-0501-47C5-96C6-64A5837F9557
SUMMARY:MotoGP - Silverstone
CREATED:20220729T143541Z
DTSTAMP:20220729T143541Z
URL:https://www.clone.gs-web.ch/index.php/rennenkalender/motogp-silverstone
X-ACCESS:1
X-HITS:203
X-COLOR:f70a0a
X-SHOW-END-TIME:1
END:VEVENT
BEGIN:VEVENT
DTSTART;TZID=Europe/Zurich:20220821T140000
DTEND;TZID=Europe/Zurich:20220821T150000
UID:0884F775-810F-4EE8-A26B-78AD310C7F2D
SUMMARY:MotoGP - Spielberg
CREATED:20220729T143541Z
DTSTAMP:20220729T143541Z
URL:https://www.clone.gs-web.ch/index.php/rennenkalender/motogp-silverstone-2
LAST-MODIFIED:20220808T055845Z
SEQUENCE:832984
X-ACCESS:1
X-HITS:311
X-COLOR:f70a0a
X-SHOW-END-TIME:1
END:VEVENT
BEGIN:VEVENT
DTSTART;TZID=Europe/Zurich:20220904T140000
DTEND;TZID=Europe/Zurich:20220904T150000
UID:743985BF-212A-4109-96D8-46129FD93F7F
SUMMARY:MotoGP - Misano
CREATED:20220729T143541Z
DTSTAMP:20220729T143541Z
URL:https://www.clone.gs-web.ch/index.php/rennenkalender/motogp-silverstone-3
X-ACCESS:1
X-HITS:350
X-COLOR:f70a0a
X-SHOW-END-TIME:1
END:VEVENT
BEGIN:VEVENT
DTSTART;TZID=Europe/Zurich:20220918T140000
DTEND;TZID=Europe/Zurich:20220918T150000
UID:885DE054-4586-4758-BA91-80157E328F45
SUMMARY:MotoGP - Alcaniz
CREATED:20220729T143541Z
DTSTAMP:20220729T143541Z
URL:https://www.clone.gs-web.ch/index.php/rennenkalender/motogp-silverstone-4
X-ACCESS:1
X-HITS:205
X-COLOR:f70a0a
X-SHOW-END-TIME:1
END:VEVENT
BEGIN:VEVENT
DTSTART;TZID=Europe/Zurich:20220925T080000
DTEND;TZID=Europe/Zurich:20220925T090000
UID:1078B761-0418-4BDE-A1E6-0FB64F6080CF
SUMMARY:MotoGP - Motegi
CREATED:20220729T143541Z
DTSTAMP:20220729T143541Z
URL:https://www.clone.gs-web.ch/index.php/rennenkalender/motogp-silverstone-5
X-ACCESS:1
X-HITS:207
X-COLOR:f70a0a
X-SHOW-END-TIME:1
END:VEVENT
BEGIN:VEVENT
DTSTART;TZID=Europe/Zurich:20221002T100000
DTEND;TZID=Europe/Zurich:20221002T110000
UID:DDD381F4-D803-4CA1-B3DA-2EC25B9B3DEF
SUMMARY:MotoGP - Buriram
CREATED:20220729T143541Z
DTSTAMP:20220729T143541Z
URL:https://www.clone.gs-web.ch/index.php/rennenkalender/motogp-silverstone-6
X-ACCESS:1
X-HITS:212
X-COLOR:f70a0a
X-SHOW-END-TIME:1
END:VEVENT
BEGIN:VEVENT
DTSTART;TZID=Europe/Zurich:20221016T050000
DTEND;TZID=Europe/Zurich:20221016T060000
UID:EDD61B99-FBFA-4D7F-8C78-DBD3DD9F66B6
SUMMARY:MotoGP - Philip Island
CREATED:20220729T143541Z
DTSTAMP:20220729T143541Z
URL:https://www.clone.gs-web.ch/index.php/rennenkalender/motogp-silverstone-7
X-ACCESS:1
X-HITS:179
X-COLOR:f70a0a
X-SHOW-END-TIME:1
END:VEVENT
BEGIN:VEVENT
DTSTART;TZID=Europe/Zurich:20221023T090000
DTEND;TZID=Europe/Zurich:20221023T100000
UID:EFF8E991-567F-4405-A496-9DD891F2653A
SUMMARY:MotoGP - Sepang
CREATED:20220729T143541Z
DTSTAMP:20220729T143541Z
URL:https://www.clone.gs-web.ch/index.php/rennenkalender/motogp-silverstone-8
X-ACCESS:1
X-HITS:204
X-COLOR:f70a0a
X-SHOW-END-TIME:1
END:VEVENT
BEGIN:VEVENT
DTSTART;TZID=Europe/Zurich:20221106T140000
DTEND;TZID=Europe/Zurich:20221106T143000
UID:B46EE6F1-3749-4E40-BD0D-C515695533F8
SUMMARY:MotoGP - Valencia
CREATED:20220729T143541Z
DTSTAMP:20220729T143541Z
URL:https://www.clone.gs-web.ch/index.php/rennenkalender/motogp-silverstone-9
LAST-MODIFIED:20220729T143929Z
SEQUENCE:228
X-ACCESS:1
X-HITS:249
X-COLOR:f70a0a
X-SHOW-END-TIME:1
END:VEVENT
BEGIN:VEVENT
DTSTART;TZID=Europe/Zurich:20250301T090000
DTEND;TZID=Europe/Zurich:20250301T100000
UID:96D007BD-41FF-442A-BA9C-3135F144587B
SUMMARY:MotoGP - Buriram
CREATED:20220729T143541Z
DTSTAMP:20220729T143541Z
URL:https://www.clone.gs-web.ch/index.php/rennenkalender/motogp-buriram
DESCRIPTION:Sprintrennen
X-ALT-DESC;FMTTYPE=text/html:<p>Sprintrennen</p>
LAST-MODIFIED:20250224T124202Z
SEQUENCE:81295581
X-ACCESS:1
X-HITS:384
X-COLOR:f70a0a
X-SHOW-END-TIME:0
END:VEVENT
BEGIN:VEVENT
DTSTART;TZID=Europe/Zurich:20250302T090000
DTEND;TZID=Europe/Zurich:20250302T100000
UID:0CAA03C9-C82C-49E9-988B-8659967553FD
SUMMARY:MotoGP - Buriram
CREATED:20220729T143541Z
DTSTAMP:20220729T143541Z
URL:https://www.clone.gs-web.ch/index.php/rennenkalender/motogp-buriram-2
LAST-MODIFIED:20250120T091808Z
SEQUENCE:78259347
X-ACCESS:1
X-HITS:297
X-COLOR:f70a0a
X-SHOW-END-TIME:0
END:VEVENT
BEGIN:VEVENT
DTSTART;TZID=Europe/Zurich:20250315T190000
DTEND;TZID=Europe/Zurich:20250315T200000
UID:CF869E98-9A25-45AD-A5FA-BCC656A80ACD
SUMMARY:MotoGP - Termas de Rio Hondo
CREATED:20250224T124517Z
DTSTAMP:20250224T124517Z
URL:https://www.clone.gs-web.ch/index.php/rennenkalender/motogp-termas-de-rio-hondo
LAST-MODIFIED:20250224T124715Z
SEQUENCE:118
X-ACCESS:1
X-HITS:119
X-COLOR:f70a0a
X-SHOW-END-TIME:0
END:VEVENT
BEGIN:VEVENT
DTSTART;TZID=Europe/Zurich:20250316T190000
DTEND;TZID=Europe/Zurich:20250316T200000
UID:32F61F6B-598E-4078-91E2-2A2318BD2D57
SUMMARY:MotoGP - Termas de Rio Hondo
CREATED:20250224T124531Z
DTSTAMP:20250224T124531Z
URL:https://www.clone.gs-web.ch/index.php/rennenkalender/motogp-termas-de-rio-hondo-2
LAST-MODIFIED:20250224T124743Z
SEQUENCE:132
X-ACCESS:1
X-HITS:127
X-COLOR:ff0900
X-SHOW-END-TIME:0
END:VEVENT
BEGIN:VEVENT
DTSTART;TZID=Europe/Zurich:20250329T210000
DTEND;TZID=Europe/Zurich:20250329T210000
UID:66646810-5B37-49AB-A85E-CA5E5FD4A3F7
SUMMARY:MotoGP - Austin
CREATED:20220729T143541Z
DTSTAMP:20220729T143541Z
URL:https://www.clone.gs-web.ch/index.php/rennenkalender/motogp-austin
DESCRIPTION:Sprintrennen
X-ALT-DESC;FMTTYPE=text/html:<p>Sprintrennen</p>
LAST-MODIFIED:20250224T124855Z
SEQUENCE:81295994
X-ACCESS:1
X-HITS:390
X-COLOR:f70a0a
X-IMAGE-FULL:https://www.clone.gs-web.ch/images/MotoGP/b_USA%20Amerika%20%20Austin.png
X-SHOW-END-TIME:0
END:VEVENT
BEGIN:VEVENT
DTSTART;TZID=Europe/Zurich:20250330T210000
DTEND;TZID=Europe/Zurich:20250330T210000
UID:DB008510-3D8A-4C0F-8318-1D8F30F343BE
SUMMARY:MotoGP - Austin
CREATED:20220729T143541Z
DTSTAMP:20220729T143541Z
URL:https://www.clone.gs-web.ch/index.php/rennenkalender/motogp-austin-2
LAST-MODIFIED:20250224T124916Z
SEQUENCE:81296015
X-ACCESS:1
X-HITS:350
X-COLOR:f70a0a
X-IMAGE-FULL:https://www.clone.gs-web.ch/images/MotoGP/b_USA%20Amerika%20%20Austin.png
X-SHOW-END-TIME:0
END:VEVENT
BEGIN:VEVENT
DTSTART;TZID=Europe/Zurich:20250412T180000
DTEND;TZID=Europe/Zurich:20250412T190000
UID:6349C1F0-5C29-45D6-9B50-8230F4615DFB
SUMMARY:MotoGP - Katar
CREATED:20220729T143541Z
DTSTAMP:20220729T143541Z
URL:https://www.clone.gs-web.ch/index.php/rennenkalender/motogp-qatar
DESCRIPTION:Sprintrennen
X-ALT-DESC;FMTTYPE=text/html:<p>Sprintrennen</p>
LAST-MODIFIED:20250224T125013Z
SEQUENCE:81296072
X-ACCESS:1
X-HITS:770
X-COLOR:f70a0a
X-IMAGE-FULL:https://www.clone.gs-web.ch/images/MotoGP/b_Katar%20-%20Losail.gif
X-SHOW-END-TIME:1
END:VEVENT
BEGIN:VEVENT
DTSTART;TZID=Europe/Zurich:20250413T190000
DTEND;TZID=Europe/Zurich:20250413T200000
UID:E5269FE6-002B-470A-81D5-A756FBD7A371
SUMMARY:MotoGP - Katar
CREATED:20220729T143541Z
DTSTAMP:20220729T143541Z
URL:https://www.clone.gs-web.ch/index.php/rennenkalender/motogp-qatar-2
LAST-MODIFIED:20250224T125224Z
SEQUENCE:81296203
X-ACCESS:1
X-HITS:741
X-COLOR:f70a0a
X-IMAGE-FULL:https://www.clone.gs-web.ch/images/MotoGP/b_Katar%20-%20Losail.gif
X-SHOW-END-TIME:1
END:VEVENT
BEGIN:VEVENT
DTSTART;TZID=Europe/Zurich:20250426T150000
DTEND;TZID=Europe/Zurich:20250426T150000
UID:F6A932FB-490B-41DE-92B1-F01C5559F5E5
SUMMARY:MotoGP - Jerez
CREATED:20220729T143541Z
DTSTAMP:20220729T143541Z
URL:https://www.clone.gs-web.ch/index.php/rennenkalender/motogp-jerez
DESCRIPTION:Sprintrennen
X-ALT-DESC;FMTTYPE=text/html:<p>Sprintrennen</p>
LAST-MODIFIED:20250224T125421Z
SEQUENCE:81296320
X-ACCESS:1
X-HITS:559
X-COLOR:f70a0a
X-IMAGE-FULL:https://www.clone.gs-web.ch/images/MotoGP/b_Spanien%20-%20Jerez.gif
X-SHOW-END-TIME:0
END:VEVENT
BEGIN:VEVENT
DTSTART;TZID=Europe/Zurich:20250427T140000
DTEND;TZID=Europe/Zurich:20250427T140000
UID:9B7CA62E-4525-4DDC-8F14-BD2A1AE5A857
SUMMARY:MotoGP - Jerez
CREATED:20220729T143541Z
DTSTAMP:20220729T143541Z
URL:https://www.clone.gs-web.ch/index.php/rennenkalender/motogp-jerez-2
LAST-MODIFIED:20250224T125439Z
SEQUENCE:81296338
X-ACCESS:1
X-HITS:1002
X-COLOR:f70a0a
X-IMAGE-FULL:https://www.clone.gs-web.ch/images/MotoGP/b_Spanien%20-%20Jerez.gif
X-SHOW-END-TIME:0
END:VEVENT
BEGIN:VEVENT
DTSTART;TZID=Europe/Zurich:20250510T150000
DTEND;TZID=Europe/Zurich:20250510T150000
UID:3ABE97B8-5D6A-4976-83B5-BC6347145A9F
SUMMARY:MotoGP - Le Mans
CREATED:20220729T143541Z
DTSTAMP:20220729T143541Z
URL:https://www.clone.gs-web.ch/index.php/rennenkalender/motogp-lemans
DESCRIPTION:Sprintrennen
X-ALT-DESC;FMTTYPE=text/html:<p>Sprintrennen</p>
LAST-MODIFIED:20250224T125729Z
SEQUENCE:81296508
X-ACCESS:1
X-HITS:631
X-COLOR:f70a0a
X-IMAGE-FULL:https://www.clone.gs-web.ch/images/MotoGP/b_Frankreich%20-%20Le%20Mans.gif
X-SHOW-END-TIME:0
END:VEVENT
BEGIN:VEVENT
DTSTART;TZID=Europe/Zurich:20250511T140000
DTEND;TZID=Europe/Zurich:20250511T140000
UID:698F972D-5A1F-42B6-8EE7-378D1091EA65
SUMMARY:MotoGP - Le Mans
CREATED:20220729T143541Z
DTSTAMP:20220729T143541Z
URL:https://www.clone.gs-web.ch/index.php/rennenkalender/motogp-lemans-2
LAST-MODIFIED:20250224T125751Z
SEQUENCE:81296530
X-ACCESS:1
X-HITS:1135
X-COLOR:f70a0a
X-IMAGE-FULL:https://www.clone.gs-web.ch/images/MotoGP/b_Frankreich%20-%20Le%20Mans.gif
X-SHOW-END-TIME:0
END:VEVENT
BEGIN:VEVENT
DTSTART;TZID=Europe/Zurich:20250524T170000
DTEND;TZID=Europe/Zurich:20250524T170000
UID:E4BFE7E0-D19B-4300-B08D-78926F3DE58F
SUMMARY:MotoGP - Silverstone
CREATED:20220729T143541Z
DTSTAMP:20220729T143541Z
URL:https://www.clone.gs-web.ch/index.php/rennenkalender/motogp-silverstone-10
DESCRIPTION:Sprintrennen
X-ALT-DESC;FMTTYPE=text/html:<p>Sprintrennen</p>
LAST-MODIFIED:20250224T125824Z
SEQUENCE:81296563
X-ACCESS:1
X-HITS:246
X-COLOR:f70a0a
X-IMAGE-FULL:https://www.clone.gs-web.ch/images/MotoGP/b_Grossbritannien%20-%20Silverstone.gif
X-SHOW-END-TIME:0
END:VEVENT
BEGIN:VEVENT
DTSTART;TZID=Europe/Zurich:20250525T140000
DTEND;TZID=Europe/Zurich:20250525T140000
UID:298D40D8-5D45-41CB-9331-A66D8C2F219B
SUMMARY:MotoGP - Silverstone
CREATED:20220729T143541Z
DTSTAMP:20220729T143541Z
URL:https://www.clone.gs-web.ch/index.php/rennenkalender/motogp-silverstone-11
LAST-MODIFIED:20250224T125843Z
SEQUENCE:81296582
X-ACCESS:1
X-HITS:239
X-COLOR:f70a0a
X-IMAGE-FULL:https://www.clone.gs-web.ch/images/MotoGP/b_Grossbritannien%20-%20Silverstone.gif
X-SHOW-END-TIME:0
END:VEVENT
BEGIN:VEVENT
DTSTART;TZID=Europe/Zurich:20250607T150000
DTEND;TZID=Europe/Zurich:20250607T150000
UID:B5CD5DE6-BF27-44E3-AF4E-4222142EA3FC
SUMMARY:MotoGP - Aragonien
CREATED:20220729T143541Z
DTSTAMP:20220729T143541Z
URL:https://www.clone.gs-web.ch/index.php/rennenkalender/motogp-argentinien
DESCRIPTION:Sprintrennen
X-ALT-DESC;FMTTYPE=text/html:<p>Sprintrennen</p>
LAST-MODIFIED:20250224T131900Z
SEQUENCE:81297799
X-ACCESS:1
X-HITS:1228
X-COLOR:f70a0a
X-IMAGE-FULL:https://www.clone.gs-web.ch/images/MotoGP/b_Termas%20de%20Rio%20Hondo.gif
X-SHOW-END-TIME:0
END:VEVENT
BEGIN:VEVENT
DTSTART;TZID=Europe/Zurich:20250608T140000
DTEND;TZID=Europe/Zurich:20250608T140000
UID:63B645BD-E1AE-4EF5-9623-CAD4C749F0FD
SUMMARY:MotoGP - Aragonien
CREATED:20220729T143541Z
DTSTAMP:20220729T143541Z
URL:https://www.clone.gs-web.ch/index.php/rennenkalender/motogp-argentinien-2
LAST-MODIFIED:20250224T131922Z
SEQUENCE:81297821
X-ACCESS:1
X-HITS:1201
X-COLOR:f70a0a
X-IMAGE-FULL:https://www.clone.gs-web.ch/images/MotoGP/b_Termas%20de%20Rio%20Hondo.gif
X-SHOW-END-TIME:0
END:VEVENT
BEGIN:VEVENT
DTSTART;TZID=Europe/Zurich:20250621T150000
DTEND;TZID=Europe/Zurich:20250621T150000
UID:B0D7CBD6-789B-4C3D-9BAC-35BAF43E3D8A
SUMMARY:MotoGP - Mugello
CREATED:20220729T143541Z
DTSTAMP:20220729T143541Z
URL:https://www.clone.gs-web.ch/index.php/rennenkalender/motogp-mugello
DESCRIPTION:Sprintrennen
X-ALT-DESC;FMTTYPE=text/html:<p>Sprintrennen</p>
LAST-MODIFIED:20250224T130028Z
SEQUENCE:81296687
X-ACCESS:1
X-HITS:821
X-COLOR:f70a0a
X-IMAGE-FULL:https://www.clone.gs-web.ch/images/MotoGP/b_Italien%20-%20Mugello.gif
X-SHOW-END-TIME:0
END:VEVENT
BEGIN:VEVENT
DTSTART;TZID=Europe/Zurich:20250622T140000
DTEND;TZID=Europe/Zurich:20250622T140000
UID:7BC97F91-641B-431D-B29E-F5E29EBFBA3C
SUMMARY:MotoGP - Mugello
CREATED:20220729T143541Z
DTSTAMP:20220729T143541Z
URL:https://www.clone.gs-web.ch/index.php/rennenkalender/motogp-mugello-2
LAST-MODIFIED:20250224T130055Z
SEQUENCE:81296714
X-ACCESS:1
X-HITS:676
X-COLOR:f70a0a
X-IMAGE-FULL:https://www.clone.gs-web.ch/images/MotoGP/b_Italien%20-%20Mugello.gif
X-SHOW-END-TIME:0
END:VEVENT
BEGIN:VEVENT
DTSTART;TZID=Europe/Zurich:20250628T150000
DTEND;TZID=Europe/Zurich:20250628T150000
UID:3613F910-21FC-43D3-9B79-52AB7C6A139E
SUMMARY:MotoGP - Assen
CREATED:20220729T143541Z
DTSTAMP:20220729T143541Z
URL:https://www.clone.gs-web.ch/index.php/rennenkalender/motogp-assen
DESCRIPTION:Sprintrennen
X-ALT-DESC;FMTTYPE=text/html:<p>Sprintrennen</p>
LAST-MODIFIED:20250224T130138Z
SEQUENCE:81296757
X-ACCESS:1
X-HITS:596
X-COLOR:f70a0a
X-IMAGE-FULL:https://www.clone.gs-web.ch/images/MotoGP/b_Niederlande%20-%20Assen.gif
X-SHOW-END-TIME:0
END:VEVENT
BEGIN:VEVENT
DTSTART;TZID=Europe/Zurich:20250629T140000
DTEND;TZID=Europe/Zurich:20250629T140000
UID:AC9B75D9-6C47-4F36-AEDD-369D8F28532A
SUMMARY:MotoGP - Assen
CREATED:20220729T143541Z
DTSTAMP:20220729T143541Z
URL:https://www.clone.gs-web.ch/index.php/rennenkalender/motogp-assen-2
LAST-MODIFIED:20250224T130200Z
SEQUENCE:81296779
X-ACCESS:1
X-HITS:248
X-COLOR:f70a0a
X-IMAGE-FULL:https://www.clone.gs-web.ch/images/MotoGP/b_Niederlande%20-%20Assen.gif
X-SHOW-END-TIME:0
END:VEVENT
BEGIN:VEVENT
DTSTART;TZID=Europe/Zurich:20250712T150000
DTEND;TZID=Europe/Zurich:20250712T150000
UID:E8D54269-FB35-4444-AC5D-1817B1B76E40
SUMMARY:MotoGP - Sachsenring
CREATED:20220729T143541Z
DTSTAMP:20220729T143541Z
URL:https://www.clone.gs-web.ch/index.php/rennenkalender/motogp-sachsenring
DESCRIPTION:Sprintrennen
X-ALT-DESC;FMTTYPE=text/html:<p>Sprintrennen</p>
LAST-MODIFIED:20250224T130234Z
SEQUENCE:81296813
X-ACCESS:1
X-HITS:351
X-COLOR:f70a0a
X-IMAGE-FULL:https://www.clone.gs-web.ch/images/MotoGP/b_Deutschland%20-%20Sachsenring.gif
X-SHOW-END-TIME:0
END:VEVENT
BEGIN:VEVENT
DTSTART;TZID=Europe/Zurich:20250713T140000
DTEND;TZID=Europe/Zurich:20250713T140000
UID:8E3D6CC4-50C7-4A46-8EB4-568F646ABAFA
SUMMARY:MotoGP - Sachsenring
CREATED:20220729T143541Z
DTSTAMP:20220729T143541Z
URL:https://www.clone.gs-web.ch/index.php/rennenkalender/motogp-sachsenring-2
LAST-MODIFIED:20250224T130251Z
SEQUENCE:81296830
X-ACCESS:1
X-HITS:365
X-COLOR:f70a0a
X-IMAGE-FULL:https://www.clone.gs-web.ch/images/MotoGP/b_Deutschland%20-%20Sachsenring.gif
X-SHOW-END-TIME:0
END:VEVENT
BEGIN:VEVENT
DTSTART;TZID=Europe/Zurich:20250719T150000
DTEND;TZID=Europe/Zurich:20250719T150000
UID:43CC2783-F8A0-4139-81A9-3720D90D2738
SUMMARY:MotoGP - Brünn
CREATED:20220729T143541Z
DTSTAMP:20220729T143541Z
URL:https://www.clone.gs-web.ch/index.php/rennenkalender/motogp-sokol
DESCRIPTION:Sprintrennen
X-ALT-DESC;FMTTYPE=text/html:<p>Sprintrennen</p>
LAST-MODIFIED:20250224T132121Z
SEQUENCE:81297940
X-ACCESS:1
X-HITS:837
X-COLOR:f70a0a
X-SHOW-END-TIME:0
END:VEVENT
BEGIN:VEVENT
DTSTART;TZID=Europe/Zurich:20250720T140000
DTEND;TZID=Europe/Zurich:20250720T140000
UID:A4DBD93E-F0A4-4481-B412-98ED71594E74
SUMMARY:MotoGP - Brünn
CREATED:20220729T143541Z
DTSTAMP:20220729T143541Z
URL:https://www.clone.gs-web.ch/index.php/rennenkalender/motogp-sokol-2
DESCRIPTION:Sprintrennen
X-ALT-DESC;FMTTYPE=text/html:<p>Sprintrennen</p>
LAST-MODIFIED:20250224T132151Z
SEQUENCE:81297970
X-ACCESS:1
X-HITS:492
X-COLOR:f70a0a
X-SHOW-END-TIME:0
END:VEVENT
BEGIN:VEVENT
DTSTART;TZID=Europe/Zurich:20250816T150000
DTEND;TZID=Europe/Zurich:20250816T160000
UID:F4AE3167-D135-4CA7-B346-8D0D3D754176
SUMMARY:MotoGP - Spielberg
CREATED:20220729T143541Z
DTSTAMP:20220729T143541Z
URL:https://www.clone.gs-web.ch/index.php/rennenkalender/motogp-spielberg
DESCRIPTION:Sprintrennen
X-ALT-DESC;FMTTYPE=text/html:<p>Sprintrennen</p>
LAST-MODIFIED:20250224T130340Z
SEQUENCE:81296879
X-ACCESS:1
X-HITS:214
X-COLOR:f70a0a
X-IMAGE-FULL:https://www.clone.gs-web.ch/images/MotoGP/b_Osterreich%20-%20Spielberg.png
X-SHOW-END-TIME:0
END:VEVENT
BEGIN:VEVENT
DTSTART;TZID=Europe/Zurich:20250817T140000
DTEND;TZID=Europe/Zurich:20250817T150000
UID:E66B977B-2E90-4A07-A8F5-2445CAE7C034
SUMMARY:MotoGP - Spielberg
CREATED:20220729T143541Z
DTSTAMP:20220729T143541Z
URL:https://www.clone.gs-web.ch/index.php/rennenkalender/motogp-spielberg-2
LAST-MODIFIED:20250224T130357Z
SEQUENCE:81296896
X-ACCESS:1
X-HITS:331
X-COLOR:f70a0a
X-IMAGE-FULL:https://www.clone.gs-web.ch/images/MotoGP/b_Osterreich%20-%20Spielberg.png
X-SHOW-END-TIME:0
END:VEVENT
BEGIN:VEVENT
DTSTART;TZID=Europe/Zurich:20250824T140000
DTEND;TZID=Europe/Zurich:20250824T150000
UID:1D8DCFD0-3BBE-400C-8C74-43FC4A4122EB
SUMMARY:MotoGP - Balaton Park
CREATED:20250224T132328Z
DTSTAMP:20250224T132328Z
URL:https://www.clone.gs-web.ch/index.php/rennenkalender/motogp-balaton-park-2
X-ACCESS:1
X-HITS:8
X-COLOR:ff0303
X-SHOW-END-TIME:0
END:VEVENT
BEGIN:VEVENT
DTSTART;TZID=Europe/Zurich:20250906T150000
DTEND;TZID=Europe/Zurich:20250906T160000
UID:F9365B78-1492-4801-83F3-FAD0CF537DCE
SUMMARY:MotoGP - Barcelona
CREATED:20220729T143541Z
DTSTAMP:20220729T143541Z
URL:https://www.clone.gs-web.ch/index.php/rennenkalender/motogp-barcelona
DESCRIPTION:Sprintrennen
X-ALT-DESC;FMTTYPE=text/html:<p>Sprintrennen</p>
LAST-MODIFIED:20250224T130452Z
SEQUENCE:81296951
X-ACCESS:1
X-HITS:227
X-COLOR:f70a0a
X-IMAGE-FULL:https://www.clone.gs-web.ch/images/MotoGP/b_Katalonien%20-%20Barcelona.gif
X-SHOW-END-TIME:0
END:VEVENT
BEGIN:VEVENT
DTSTART;TZID=Europe/Zurich:20250907T140000
DTEND;TZID=Europe/Zurich:20250907T150000
UID:471CF9F6-5754-42C1-B249-BA4B3014EAF2
SUMMARY:MotoGP - Barcelona
CREATED:20220729T143541Z
DTSTAMP:20220729T143541Z
URL:https://www.clone.gs-web.ch/index.php/rennenkalender/motogp-barcelona-2
LAST-MODIFIED:20250224T130516Z
SEQUENCE:81296975
X-ACCESS:1
X-HITS:234
X-COLOR:f70a0a
X-IMAGE-FULL:https://www.clone.gs-web.ch/images/MotoGP/b_Katalonien%20-%20Barcelona.gif
X-SHOW-END-TIME:0
END:VEVENT
BEGIN:VEVENT
DTSTART;TZID=Europe/Zurich:20250913T150000
DTEND;TZID=Europe/Zurich:20250913T160000
UID:69DFB499-CE74-4C1B-84C7-DAFF902B578E
SUMMARY:MotoGP - Misano
CREATED:20220729T143541Z
DTSTAMP:20220729T143541Z
URL:https://www.clone.gs-web.ch/index.php/rennenkalender/motogp-misano
DESCRIPTION:Sprintrennen
X-ALT-DESC;FMTTYPE=text/html:<p>Sprintrennen</p>
LAST-MODIFIED:20250224T130539Z
SEQUENCE:81296998
X-ACCESS:1
X-HITS:199
X-COLOR:f70a0a
X-IMAGE-FULL:https://www.clone.gs-web.ch/images/MotoGP/b_San%20Marino%20-%20Misano.gif
X-SHOW-END-TIME:0
END:VEVENT
BEGIN:VEVENT
DTSTART;TZID=Europe/Zurich:20250914T140000
DTEND;TZID=Europe/Zurich:20250914T150000
UID:5F05EEFF-5559-4D1D-8C1A-41A67D5529F6
SUMMARY:MotoGP - Misano
CREATED:20220729T143541Z
DTSTAMP:20220729T143541Z
URL:https://www.clone.gs-web.ch/index.php/rennenkalender/motogp-misano-2
LAST-MODIFIED:20250224T130555Z
SEQUENCE:81297014
X-ACCESS:1
X-HITS:260
X-COLOR:f70a0a
X-IMAGE-FULL:https://www.clone.gs-web.ch/images/MotoGP/b_San%20Marino%20-%20Misano.gif
X-SHOW-END-TIME:0
END:VEVENT
BEGIN:VEVENT
DTSTART;TZID=Europe/Zurich:20250927T080000
DTEND;TZID=Europe/Zurich:20250927T090000
UID:AC516825-C74C-4F37-AE25-BFCD126EC28A
SUMMARY:MotoGP - Motegi
CREATED:20220729T143541Z
DTSTAMP:20220729T143541Z
URL:https://www.clone.gs-web.ch/index.php/rennenkalender/motogp-motegi
DESCRIPTION:Sprintrennen
X-ALT-DESC;FMTTYPE=text/html:<p>Sprintrennen</p>
LAST-MODIFIED:20250224T130636Z
SEQUENCE:81297055
X-ACCESS:1
X-HITS:181
X-COLOR:f70a0a
X-IMAGE-FULL:https://www.clone.gs-web.ch/images/MotoGP/b_Japan%20-%20Motegi.gif
X-SHOW-END-TIME:0
END:VEVENT
BEGIN:VEVENT
DTSTART;TZID=Europe/Zurich:20250928T070000
DTEND;TZID=Europe/Zurich:20250928T080000
UID:B1835C8D-B992-4B0D-831E-DE77DA9931D3
SUMMARY:MotoGP - Motegi
CREATED:20220729T143541Z
DTSTAMP:20220729T143541Z
URL:https://www.clone.gs-web.ch/index.php/rennenkalender/motogp-motegi-2
LAST-MODIFIED:20250224T130702Z
SEQUENCE:81297081
X-ACCESS:1
X-HITS:279
X-COLOR:f70a0a
X-IMAGE-FULL:https://www.clone.gs-web.ch/images/MotoGP/b_Japan%20-%20Motegi.gif
X-SHOW-END-TIME:0
END:VEVENT
BEGIN:VEVENT
DTSTART;TZID=Europe/Zurich:20251004T090000
DTEND;TZID=Europe/Zurich:20251004T100000
UID:CAB2D4A4-84A3-4333-B783-50802FE710CB
SUMMARY:MotoGP - Mandalika
CREATED:20220729T143541Z
DTSTAMP:20220729T143541Z
URL:https://www.clone.gs-web.ch/index.php/rennenkalender/motogp-mandalika
DESCRIPTION:Sprintrennen
X-ALT-DESC;FMTTYPE=text/html:<p>Sprintrennen</p>
LAST-MODIFIED:20250224T130741Z
SEQUENCE:81297120
X-ACCESS:1
X-HITS:225
X-COLOR:f70a0a
X-IMAGE-FULL:https://www.clone.gs-web.ch/images/MotoGP/b_%20Indonesien%20-%20Mandalika.png
X-SHOW-END-TIME:0
END:VEVENT
BEGIN:VEVENT
DTSTART;TZID=Europe/Zurich:20251005T090000
DTEND;TZID=Europe/Zurich:20251005T100000
UID:9B1EF4FA-4655-4147-9314-BB1839F5518C
SUMMARY:MotoGP - Mandalika
CREATED:20220729T143541Z
DTSTAMP:20220729T143541Z
URL:https://www.clone.gs-web.ch/index.php/rennenkalender/motogp-mandalika-2
LAST-MODIFIED:20250224T130758Z
SEQUENCE:81297137
X-ACCESS:1
X-HITS:166
X-COLOR:f70a0a
X-IMAGE-FULL:https://www.clone.gs-web.ch/images/MotoGP/b_%20Indonesien%20-%20Mandalika.png
X-SHOW-END-TIME:0
END:VEVENT
BEGIN:VEVENT
DTSTART;TZID=Europe/Zurich:20251018T060000
DTEND;TZID=Europe/Zurich:20251018T070000
UID:D8CBF474-D521-4A0F-8877-1C1A789D2CC9
SUMMARY:MotoGP - Philip Island
CREATED:20220729T143541Z
DTSTAMP:20220729T143541Z
URL:https://www.clone.gs-web.ch/index.php/rennenkalender/motogp-philip-island
DESCRIPTION:Sprintrennen
X-ALT-DESC;FMTTYPE=text/html:<p>Sprintrennen</p>
LAST-MODIFIED:20250224T130823Z
SEQUENCE:81297162
X-ACCESS:1
X-HITS:152
X-COLOR:f70a0a
X-IMAGE-FULL:https://www.clone.gs-web.ch/images/MotoGP/b_philip%20island.gif
X-SHOW-END-TIME:0
END:VEVENT
BEGIN:VEVENT
DTSTART;TZID=Europe/Zurich:20251019T050000
DTEND;TZID=Europe/Zurich:20251019T060000
UID:1848602C-618C-4483-A35D-36FB2F608443
SUMMARY:MotoGP - Philip Island
CREATED:20220729T143541Z
DTSTAMP:20220729T143541Z
URL:https://www.clone.gs-web.ch/index.php/rennenkalender/motogp-philip-island-2
LAST-MODIFIED:20250224T130840Z
SEQUENCE:81297179
X-ACCESS:1
X-HITS:162
X-COLOR:f70a0a
X-IMAGE-FULL:https://www.clone.gs-web.ch/images/MotoGP/b_philip%20island.gif
X-SHOW-END-TIME:0
END:VEVENT
BEGIN:VEVENT
DTSTART;TZID=Europe/Zurich:20251025T090000
DTEND;TZID=Europe/Zurich:20251025T100000
UID:0E5476DC-C62E-42F5-ABB9-030C33995ACA
SUMMARY:MotoGP - Sepang
CREATED:20220729T143541Z
DTSTAMP:20220729T143541Z
URL:https://www.clone.gs-web.ch/index.php/rennenkalender/motogp-neudelhi
DESCRIPTION:Sprintrennen
X-ALT-DESC;FMTTYPE=text/html:<p>Sprintrennen</p>
LAST-MODIFIED:20250224T132011Z
SEQUENCE:81297870
X-ACCESS:1
X-HITS:269
X-COLOR:f70a0a
X-SHOW-END-TIME:0
END:VEVENT
BEGIN:VEVENT
DTSTART;TZID=Europe/Zurich:20251025T090000
DTEND;TZID=Europe/Zurich:20251025T100000
UID:7CFAA701-1FBD-4C7B-B934-29D4CE574A69
SUMMARY:MotoGP - Sepang
CREATED:20220729T143541Z
DTSTAMP:20220729T143541Z
URL:https://www.clone.gs-web.ch/index.php/rennenkalender/motogp-sepang
DESCRIPTION:Sprintrennen
X-ALT-DESC;FMTTYPE=text/html:<p>Sprintrennen</p>
LAST-MODIFIED:20250224T130905Z
SEQUENCE:81297204
X-ACCESS:1
X-HITS:221
X-COLOR:f70a0a
X-IMAGE-FULL:https://www.clone.gs-web.ch/images/MotoGP/b_Malaysia%20-%20Sepang.gif
X-SHOW-END-TIME:0
END:VEVENT
BEGIN:VEVENT
DTSTART;TZID=Europe/Zurich:20251026T080000
DTEND;TZID=Europe/Zurich:20251026T090000
UID:AF690ED8-58E7-4F34-B2C3-709F7350A29E
SUMMARY:MotoGP - Sepang
CREATED:20220729T143541Z
DTSTAMP:20220729T143541Z
URL:https://www.clone.gs-web.ch/index.php/rennenkalender/motogp-neudelhi-2
LAST-MODIFIED:20250224T132040Z
SEQUENCE:81297899
X-ACCESS:1
X-HITS:154
X-COLOR:f70a0a
X-SHOW-END-TIME:0
END:VEVENT
BEGIN:VEVENT
DTSTART;TZID=Europe/Zurich:20251026T080000
DTEND;TZID=Europe/Zurich:20251026T090000
UID:CD08C642-0D24-4B17-BEF0-606BB141910D
SUMMARY:MotoGP - Sepang
CREATED:20220729T143541Z
DTSTAMP:20220729T143541Z
URL:https://www.clone.gs-web.ch/index.php/rennenkalender/motogp-sepang-2
LAST-MODIFIED:20250224T130923Z
SEQUENCE:81297222
X-ACCESS:1
X-HITS:215
X-COLOR:f70a0a
X-IMAGE-FULL:https://www.clone.gs-web.ch/images/MotoGP/b_Malaysia%20-%20Sepang.gif
X-SHOW-END-TIME:0
END:VEVENT
BEGIN:VEVENT
DTSTART;TZID=Europe/Zurich:20251108T160000
DTEND;TZID=Europe/Zurich:20251108T160000
UID:0E200869-9797-4FB9-83C7-3C104E75B8A6
SUMMARY:MotoGP - Portimao
CREATED:20220729T143541Z
DTSTAMP:20220729T143541Z
URL:https://www.clone.gs-web.ch/index.php/rennenkalender/motogp-portimao
DESCRIPTION:Sprintrennen
X-ALT-DESC;FMTTYPE=text/html:<p>Sprintrennen</p>
LAST-MODIFIED:20250224T131431Z
SEQUENCE:81297530
X-ACCESS:1
X-HITS:272
X-COLOR:f70a0a
X-IMAGE-FULL:https://www.clone.gs-web.ch/images/MotoGP/b_Portugal%20Portugal%20Portimao.gif
X-SHOW-END-TIME:0
END:VEVENT
BEGIN:VEVENT
DTSTART;TZID=Europe/Zurich:20251109T150000
DTEND;TZID=Europe/Zurich:20251109T150000
UID:42DAFE6D-0D88-4BD5-B4CC-E9806E9CCADC
SUMMARY:MotoGP - Portimao
CREATED:20220729T143541Z
DTSTAMP:20220729T143541Z
URL:https://www.clone.gs-web.ch/index.php/rennenkalender/motogp-portimao-2
LAST-MODIFIED:20250224T131457Z
SEQUENCE:81297556
X-ACCESS:1
X-HITS:301
X-COLOR:f70a0a
X-IMAGE-FULL:https://www.clone.gs-web.ch/images/MotoGP/b_Portugal%20Portugal%20Portimao.gif
X-SHOW-END-TIME:0
END:VEVENT
BEGIN:VEVENT
DTSTART;TZID=Europe/Zurich:20251115T150000
DTEND;TZID=Europe/Zurich:20251115T153000
UID:34D7EA4B-F97D-424F-BB49-23BCDF656DB8
SUMMARY:MotoGP - Valencia
CREATED:20220729T143541Z
DTSTAMP:20220729T143541Z
URL:https://www.clone.gs-web.ch/index.php/rennenkalender/motogp-valencia
DESCRIPTION:Sprintrennen
X-ALT-DESC;FMTTYPE=text/html:<p>Sprintrennen</p>
LAST-MODIFIED:20250224T131528Z
SEQUENCE:81297587
X-ACCESS:1
X-HITS:369
X-COLOR:f70a0a
X-IMAGE-FULL:https://www.clone.gs-web.ch/images/MotoGP/b_Spanien%20Valencia.gif
X-SHOW-END-TIME:0
END:VEVENT
BEGIN:VEVENT
DTSTART;TZID=Europe/Zurich:20251116T140000
DTEND;TZID=Europe/Zurich:20251116T143000
UID:F7DA7596-CA50-4CD4-9B96-E8F0FEEFDD7D
SUMMARY:MotoGP - Valencia
CREATED:20220729T143541Z
DTSTAMP:20220729T143541Z
URL:https://www.clone.gs-web.ch/index.php/rennenkalender/motogp-valencia-2
LAST-MODIFIED:20250224T131543Z
SEQUENCE:81297602
X-ACCESS:1
X-HITS:248
X-COLOR:f70a0a
X-IMAGE-FULL:https://www.clone.gs-web.ch/images/MotoGP/b_Spanien%20Valencia.gif
X-SHOW-END-TIME:0
END:VEVENT
BEGIN:VEVENT
DTSTART;TZID=Europe/Zurich:20260822T150000
DTEND;TZID=Europe/Zurich:20260822T160000
UID:86303E3A-7369-40FD-BF79-E16CA1B2F692
SUMMARY:MotoGP - Balaton Park
CREATED:20250224T132256Z
DTSTAMP:20250224T132256Z
URL:https://www.clone.gs-web.ch/index.php/rennenkalender/motogp-balaton-park
X-ACCESS:1
X-HITS:25
X-COLOR:f70a0a
X-SHOW-END-TIME:0
END:VEVENT
END:VCALENDAR