BEGIN:VCALENDAR
VERSION:2.0
PRODID:DPCALENDAR
CALSCALE:GREGORIAN
BEGIN:VTIMEZONE
TZID:Europe/Zurich
BEGIN:STANDARD
DTSTART:20251026T010000
TZOFFSETFROM:+0200
TZOFFSETTO:+0100
TZNAME:CET
END:STANDARD
BEGIN:STANDARD
DTSTART:20261025T010000
TZOFFSETFROM:+0200
TZOFFSETTO:+0100
TZNAME:CET
END:STANDARD
BEGIN:DAYLIGHT
DTSTART:20260329T010000
TZOFFSETFROM:+0100
TZOFFSETTO:+0200
TZNAME:CEST
END:DAYLIGHT
END:VTIMEZONE
X-WR-TIMEZONE:Europe/Zurich
BEGIN:VEVENT
DTSTART;TZID=Europe/Zurich:20240615T140000
DTEND;TZID=Europe/Zurich:20240615T140000
UID:16C29C58-B805-4030-AB7D-4AF9AF0545D6
SUMMARY:Superbike - Misano
CREATED:20240308T070738Z
DTSTAMP:20240308T070738Z
URL:https://www.clone.gs-web.ch/index.php/component/dpcalendar/event/142?calid=11
LAST-MODIFIED:20240319T094408Z
SEQUENCE:959790
X-ACCESS:1
X-HITS:0
X-COLOR:3366CC
X-SHOW-END-TIME:0
END:VEVENT
BEGIN:VEVENT
DTSTART;TZID=Europe/Zurich:20301231T160000
DTEND;TZID=Europe/Zurich:20301231T160000
UID:B659EBF6-0273-4477-9C52-90D7632BF201
SUMMARY:Frühpension mit 62
CREATED:20250617T085037Z
DTSTAMP:20250617T085037Z
URL:https://www.clone.gs-web.ch/index.php/component/dpcalendar/event/158?calid=11
DESCRIPTION:62
X-ALT-DESC;FMTTYPE=text/html:<p>62</p>
LAST-MODIFIED:20250617T092326Z
SEQUENCE:1969
X-ACCESS:1
X-HITS:5
X-COLOR:3366CC
X-SHOW-END-TIME:1
X-PUBLISH-UP:2025-06-17 09:11:22
END:VEVENT
END:VCALENDAR